{"text_format":"1","workbook":"xlsx","n_sheets":2,"sheets":["mês-mês anterior","mensal"],"not_rendered":{"charts":0,"images":0,"macros":1,"external_links":1,"defined_names":0,"comments":0,"pivot_tables":0},"unopened":[],"bounds":{"document_bytes":16777216,"sheet_cells":100000,"rows_first":2000,"rows_last":500,"rows_between":2000,"halvings":0,"cell_chars":16384,"cell_head_chars":4096},"cells_cut":0,"cells_raw":0,"read":"whole","date_system":"1900"}

{"sheet":"mês-mês anterior","index":0,"n_rows":20,"n_cols":21,"rows_kept":20,"cut":false,"hidden":false,"merged":[[5,9,5,10],[5,11,5,12],[5,13,5,14],[5,15,5,16],[5,17,5,18],[5,19,5,20],[19,0,19,20],[0,0,0,20],[1,0,1,20],[2,0,2,20],[4,0,6,0],[4,17,4,20],[4,1,4,4],[4,5,4,8],[4,9,4,12],[4,13,4,16],[5,1,5,2],[5,3,5,4],[5,5,5,6],[5,7,5,8]]}
["Indicadores da Produção Industrial - Brasil"]
["Série com ajuste sazonal"]
["Índice Mês/Mês Anterior"]
[]
[null,"Indústria Geral",null,null,null,"Bens de Capital",null,null,null,"Bens Intermediários",null,null,null,"Bens de Consumo Durável",null,null,null,"Bens de Consumo Semi e Não Durável"]
[null,"Dados de 2019",null,"Dados de 2020",null,{"$f":"B6","v":"Dados de 2019"},null,{"$f":"D6","v":"Dados de 2020"},null,{"$f":"B6","v":"Dados de 2019"},null,{"$f":"D6","v":"Dados de 2020"},null,{"$f":"B6","v":"Dados de 2019"},null,{"$f":"D6","v":"Dados de 2020"},null,{"$f":"B6","v":"Dados de 2019"},null,{"$f":"D6","v":"Dados de 2020"}]
[null,"Outubro/2020","Novembro/2020",{"$f":"B7","v":"Outubro/2020"},"Novembro/2020",{"$f":"B7","v":"Outubro/2020"},"Novembro/2020",{"$f":"B7","v":"Outubro/2020"},"Novembro/2020",{"$f":"B7","v":"Outubro/2020"},"Novembro/2020",{"$f":"B7","v":"Outubro/2020"},"Novembro/2020",{"$f":"B7","v":"Outubro/2020"},"Novembro/2020",{"$f":"B7","v":"Outubro/2020"},"Novembro/2020",{"$f":"B7","v":"Outubro/2020"},"Novembro/2020",{"$f":"B7","v":"Outubro/2020"},"Novembro/2020"]
["Jan",{"$f":"'[1]mês-mês anterior'!B8","v":-1},{"$f":"'[1]mês-mês anterior'!C8","v":-1},{"$f":"'[1]mês-mês anterior'!D8","v":1},{"$f":"'[1]mês-mês anterior'!E8","v":1.2},{"$f":"'[1]mês-mês anterior'!F8","v":-2.4},{"$f":"'[1]mês-mês anterior'!G8","v":-2.4},{"$f":"'[1]mês-mês anterior'!H8","v":12.6},{"$f":"'[1]mês-mês anterior'!I8","v":12.8},{"$f":"'[1]mês-mês anterior'!J8","v":-0.2},{"$f":"'[1]mês-mês anterior'!K8","v":-0.3},{"$f":"'[1]mês-mês anterior'!L8","v":0.9},{"$f":"'[1]mês-mês anterior'!M8","v":0.9},{"$f":"'[1]mês-mês anterior'!N8","v":1.3},{"$f":"'[1]mês-mês anterior'!O8","v":1.3},{"$f":"'[1]mês-mês anterior'!P8","v":5.5},{"$f":"'[1]mês-mês anterior'!Q8","v":5.4},{"$f":"'[1]mês-mês anterior'!R8","v":0.3},{"$f":"'[1]mês-mês anterior'!S8","v":0.3},{"$f":"'[1]mês-mês anterior'!T8","v":0.1},{"$f":"'[1]mês-mês anterior'!U8","v":0.1}]
["Fev",{"$f":"'[1]mês-mês anterior'!B9","v":0.6},{"$f":"'[1]mês-mês anterior'!C9","v":0.5},{"$f":"'[1]mês-mês anterior'!D9","v":0.9},{"$f":"'[1]mês-mês anterior'!E9","v":0.9},{"$f":"'[1]mês-mês anterior'!F9","v":5.3},{"$f":"'[1]mês-mês anterior'!G9","v":5.5},{"$f":"'[1]mês-mês anterior'!H9","v":1.3},{"$f":"'[1]mês-mês anterior'!I9","v":1.4},{"$f":"'[1]mês-mês anterior'!J9","v":-0.6},{"$f":"'[1]mês-mês anterior'!K9","v":-0.6},{"$f":"'[1]mês-mês anterior'!L9","v":1},{"$f":"'[1]mês-mês anterior'!M9","v":1},{"$f":"'[1]mês-mês anterior'!N9","v":4.2},{"$f":"'[1]mês-mês anterior'!O9","v":4.2},{"$f":"'[1]mês-mês anterior'!P9","v":1},{"$f":"'[1]mês-mês anterior'!Q9","v":1.1000000000000001},{"$f":"'[1]mês-mês anterior'!R9","v":0.8},{"$f":"'[1]mês-mês anterior'!S9","v":0.8},{"$f":"'[1]mês-mês anterior'!T9","v":0.1},{"$f":"'[1]mês-mês anterior'!U9","v":0.1}]
["Mar",{"$f":"'[1]mês-mês anterior'!B10","v":-1.3},{"$f":"'[1]mês-mês anterior'!C10","v":-1.1000000000000001},{"$f":"'[1]mês-mês anterior'!D10","v":-9.4},{"$f":"'[1]mês-mês anterior'!E10","v":-9.4},{"$f":"'[1]mês-mês anterior'!F10","v":-0.1},{"$f":"'[1]mês-mês anterior'!G10","v":-0.1},{"$f":"'[1]mês-mês anterior'!H10","v":-16},{"$f":"'[1]mês-mês anterior'!I10","v":-16.2},{"$f":"'[1]mês-mês anterior'!J10","v":-1.1000000000000001},{"$f":"'[1]mês-mês anterior'!K10","v":-1.1000000000000001},{"$f":"'[1]mês-mês anterior'!L10","v":-4},{"$f":"'[1]mês-mês anterior'!M10","v":-4},{"$f":"'[1]mês-mês anterior'!N10","v":-2.1},{"$f":"'[1]mês-mês anterior'!O10","v":-2.1},{"$f":"'[1]mês-mês anterior'!P10","v":-24.5},{"$f":"'[1]mês-mês anterior'!Q10","v":-24.6},{"$f":"'[1]mês-mês anterior'!R10","v":-1.2},{"$f":"'[1]mês-mês anterior'!S10","v":-1.2},{"$f":"'[1]mês-mês anterior'!T10","v":-12.4},{"$f":"'[1]mês-mês anterior'!U10","v":-12.3}]
["Abr",{"$f":"'[1]mês-mês anterior'!B11","v":0.2},{"$f":"'[1]mês-mês anterior'!C11","v":0.2},{"$f":"'[1]mês-mês anterior'!D11","v":-19.5},{"$f":"'[1]mês-mês anterior'!E11","v":-19.5},{"$f":"'[1]mês-mês anterior'!F11","v":4.3},{"$f":"'[1]mês-mês anterior'!G11","v":4.3},{"$f":"'[1]mês-mês anterior'!H11","v":-41.7},{"$f":"'[1]mês-mês anterior'!I11","v":-41.7},{"$f":"'[1]mês-mês anterior'!J11","v":-0.8},{"$f":"'[1]mês-mês anterior'!K11","v":-0.8},{"$f":"'[1]mês-mês anterior'!L11","v":-15.1},{"$f":"'[1]mês-mês anterior'!M11","v":-15},{"$f":"'[1]mês-mês anterior'!N11","v":7.2},{"$f":"'[1]mês-mês anterior'!O11","v":7.2},{"$f":"'[1]mês-mês anterior'!P11","v":-79.099999999999994},{"$f":"'[1]mês-mês anterior'!Q11","v":-79.099999999999994},{"$f":"'[1]mês-mês anterior'!R11","v":2.7},{"$f":"'[1]mês-mês anterior'!S11","v":2.7},{"$f":"'[1]mês-mês anterior'!T11","v":-12.5},{"$f":"'[1]mês-mês anterior'!U11","v":-12.6}]
["Mai",{"$f":"'[1]mês-mês anterior'!B12","v":0.5},{"$f":"'[1]mês-mês anterior'!C12","v":0.5},{"$f":"'[1]mês-mês anterior'!D12","v":8.6999999999999993},{"$f":"'[1]mês-mês anterior'!E12","v":8.6999999999999993},{"$f":"'[1]mês-mês anterior'!F12","v":-1.6},{"$f":"'[1]mês-mês anterior'!G12","v":-1.5},{"$f":"'[1]mês-mês anterior'!H12","v":31.5},{"$f":"'[1]mês-mês anterior'!I12","v":32.1},{"$f":"'[1]mês-mês anterior'!J12","v":1},{"$f":"'[1]mês-mês anterior'!K12","v":1},{"$f":"'[1]mês-mês anterior'!L12","v":5.6},{"$f":"'[1]mês-mês anterior'!M12","v":5.5},{"$f":"'[1]mês-mês anterior'!N12","v":-8.1999999999999993},{"$f":"'[1]mês-mês anterior'!O12","v":-8.3000000000000007},{"$f":"'[1]mês-mês anterior'!P12","v":89.6},{"$f":"'[1]mês-mês anterior'!Q12","v":89.6},{"$f":"'[1]mês-mês anterior'!R12","v":-1.5},{"$f":"'[1]mês-mês anterior'!S12","v":-1.4},{"$f":"'[1]mês-mês anterior'!T12","v":9.3000000000000007},{"$f":"'[1]mês-mês anterior'!U12","v":9.3000000000000007}]
["Jun",{"$f":"'[1]mês-mês anterior'!B13","v":-0.9},{"$f":"'[1]mês-mês anterior'!C13","v":-0.9},{"$f":"'[1]mês-mês anterior'!D13","v":9.6},{"$f":"'[1]mês-mês anterior'!E13","v":9.6},{"$f":"'[1]mês-mês anterior'!F13","v":0},{"$f":"'[1]mês-mês anterior'!G13","v":0.1},{"$f":"'[1]mês-mês anterior'!H13","v":13.8},{"$f":"'[1]mês-mês anterior'!I13","v":13.5},{"$f":"'[1]mês-mês anterior'!J13","v":-1.2},{"$f":"'[1]mês-mês anterior'!K13","v":-1.2},{"$f":"'[1]mês-mês anterior'!L13","v":5},{"$f":"'[1]mês-mês anterior'!M13","v":5.2},{"$f":"'[1]mês-mês anterior'!N13","v":0.6},{"$f":"'[1]mês-mês anterior'!O13","v":0.7},{"$f":"'[1]mês-mês anterior'!P13","v":98},{"$f":"'[1]mês-mês anterior'!Q13","v":98},{"$f":"'[1]mês-mês anterior'!R13","v":-1.8},{"$f":"'[1]mês-mês anterior'!S13","v":-1.9},{"$f":"'[1]mês-mês anterior'!T13","v":8.1999999999999993},{"$f":"'[1]mês-mês anterior'!U13","v":8.1999999999999993}]
["Jul",{"$f":"'[1]mês-mês anterior'!B14","v":-1.4},{"$f":"'[1]mês-mês anterior'!C14","v":-1.4},{"$f":"'[1]mês-mês anterior'!D14","v":8.6},{"$f":"'[1]mês-mês anterior'!E14","v":8.6},{"$f":"'[1]mês-mês anterior'!F14","v":-0.8},{"$f":"'[1]mês-mês anterior'!G14","v":-0.8},{"$f":"'[1]mês-mês anterior'!H14","v":15.6},{"$f":"'[1]mês-mês anterior'!I14","v":16},{"$f":"'[1]mês-mês anterior'!J14","v":-0.2},{"$f":"'[1]mês-mês anterior'!K14","v":-0.2},{"$f":"'[1]mês-mês anterior'!L14","v":10.4},{"$f":"'[1]mês-mês anterior'!M14","v":10.199999999999999},{"$f":"'[1]mês-mês anterior'!N14","v":-0.6},{"$f":"'[1]mês-mês anterior'!O14","v":-0.6},{"$f":"'[1]mês-mês anterior'!P14","v":33.200000000000003},{"$f":"'[1]mês-mês anterior'!Q14","v":33},{"$f":"'[1]mês-mês anterior'!R14","v":1},{"$f":"'[1]mês-mês anterior'!S14","v":1},{"$f":"'[1]mês-mês anterior'!T14","v":5.0999999999999996},{"$f":"'[1]mês-mês anterior'!U14","v":5.2}]
["Ago",{"$f":"'[1]mês-mês anterior'!B15","v":1.6},{"$f":"'[1]mês-mês anterior'!C15","v":1.6},{"$f":"'[1]mês-mês anterior'!D15","v":3.4},{"$f":"'[1]mês-mês anterior'!E15","v":3.4},{"$f":"'[1]mês-mês anterior'!F15","v":0.6},{"$f":"'[1]mês-mês anterior'!G15","v":0.9},{"$f":"'[1]mês-mês anterior'!H15","v":5.5},{"$f":"'[1]mês-mês anterior'!I15","v":5.4},{"$f":"'[1]mês-mês anterior'!J15","v":1.3},{"$f":"'[1]mês-mês anterior'!K15","v":1.2},{"$f":"'[1]mês-mês anterior'!L15","v":2.2000000000000002},{"$f":"'[1]mês-mês anterior'!M15","v":2.1},{"$f":"'[1]mês-mês anterior'!N15","v":-2.1},{"$f":"'[1]mês-mês anterior'!O15","v":-2.1},{"$f":"'[1]mês-mês anterior'!P15","v":9.6999999999999993},{"$f":"'[1]mês-mês anterior'!Q15","v":9.9},{"$f":"'[1]mês-mês anterior'!R15","v":0.6},{"$f":"'[1]mês-mês anterior'!S15","v":0.6},{"$f":"'[1]mês-mês anterior'!T15","v":1.2},{"$f":"'[1]mês-mês anterior'!U15","v":1.1000000000000001}]
["Set",{"$f":"'[1]mês-mês anterior'!B16","v":0.1},{"$f":"'[1]mês-mês anterior'!C16","v":0.1},{"$f":"'[1]mês-mês anterior'!D16","v":2.8},{"$f":"'[1]mês-mês anterior'!E16","v":2.8},{"$f":"'[1]mês-mês anterior'!F16","v":-0.3},{"$f":"'[1]mês-mês anterior'!G16","v":-0.3},{"$f":"'[1]mês-mês anterior'!H16","v":8.3000000000000007},{"$f":"'[1]mês-mês anterior'!I16","v":8.6},{"$f":"'[1]mês-mês anterior'!J16","v":0.1},{"$f":"'[1]mês-mês anterior'!K16","v":0.2},{"$f":"'[1]mês-mês anterior'!L16","v":1.2},{"$f":"'[1]mês-mês anterior'!M16","v":1.2},{"$f":"'[1]mês-mês anterior'!N16","v":3.5},{"$f":"'[1]mês-mês anterior'!O16","v":3.5},{"$f":"'[1]mês-mês anterior'!P16","v":9.1},{"$f":"'[1]mês-mês anterior'!Q16","v":9.3000000000000007},{"$f":"'[1]mês-mês anterior'!R16","v":-0.2},{"$f":"'[1]mês-mês anterior'!S16","v":-0.2},{"$f":"'[1]mês-mês anterior'!T16","v":3.7},{"$f":"'[1]mês-mês anterior'!U16","v":3.8}]
["Out",{"$f":"'[1]mês-mês anterior'!B17","v":1.8},{"$f":"'[1]mês-mês anterior'!C17","v":1.8},{"$f":"'[1]mês-mês anterior'!D17","v":1.1000000000000001},{"$f":"'[1]mês-mês anterior'!E17","v":1.1000000000000001},{"$f":"'[1]mês-mês anterior'!F17","v":-1.7},{"$f":"'[1]mês-mês anterior'!G17","v":-1.4},{"$f":"'[1]mês-mês anterior'!H17","v":7},{"$f":"'[1]mês-mês anterior'!I17","v":7.4},{"$f":"'[1]mês-mês anterior'!J17","v":0.8},{"$f":"'[1]mês-mês anterior'!K17","v":0.7},{"$f":"'[1]mês-mês anterior'!L17","v":-0.2},{"$f":"'[1]mês-mês anterior'!M17","v":-0.4},{"$f":"'[1]mês-mês anterior'!N17","v":4.9000000000000004},{"$f":"'[1]mês-mês anterior'!O17","v":5.5},{"$f":"'[1]mês-mês anterior'!P17","v":1.4},{"$f":"'[1]mês-mês anterior'!Q17","v":2.2000000000000002},{"$f":"'[1]mês-mês anterior'!R17","v":2.1},{"$f":"'[1]mês-mês anterior'!S17","v":2.1},{"$f":"'[1]mês-mês anterior'!T17","v":-0.1},{"$f":"'[1]mês-mês anterior'!U17","v":-0.1}]
["Nov",{"$f":"'[1]mês-mês anterior'!B18","v":-1.7},{"$f":"'[1]mês-mês anterior'!C18","v":-1.7},null,{"$f":"'[1]mês-mês anterior'!E18","v":1.2},{"$f":"'[1]mês-mês anterior'!F18","v":-0.4},{"$f":"'[1]mês-mês anterior'!G18","v":-1.5},null,{"$f":"'[1]mês-mês anterior'!I18","v":7.4},{"$f":"'[1]mês-mês anterior'!J18","v":-1.8},{"$f":"'[1]mês-mês anterior'!K18","v":-1.6},null,{"$f":"'[1]mês-mês anterior'!M18","v":0.1},{"$f":"'[1]mês-mês anterior'!N18","v":-3.3},{"$f":"'[1]mês-mês anterior'!O18","v":-3.9},null,{"$f":"'[1]mês-mês anterior'!Q18","v":6.2},{"$f":"'[1]mês-mês anterior'!R18","v":-1.2},{"$f":"'[1]mês-mês anterior'!S18","v":-1.3},null,{"$f":"'[1]mês-mês anterior'!U18","v":1.5}]
["Dez",{"$f":"'[1]mês-mês anterior'!B19","v":-0.6},{"$f":"'[1]mês-mês anterior'!C19","v":-0.7},null,null,{"$f":"'[1]mês-mês anterior'!F19","v":-11.2},{"$f":"'[1]mês-mês anterior'!G19","v":-11.1},null,null,{"$f":"'[1]mês-mês anterior'!J19","v":0.1},{"$f":"'[1]mês-mês anterior'!K19","v":0},null,null,{"$f":"'[1]mês-mês anterior'!N19","v":-4.3},{"$f":"'[1]mês-mês anterior'!O19","v":-4.2},null,null,{"$f":"'[1]mês-mês anterior'!R19","v":-1.5},{"$f":"'[1]mês-mês anterior'!S19","v":-1.4}]
["Fonte: IBGE, Diretoria de Pesquisas, Coordenação de Indústria"]

{"sheet":"mensal","index":1,"n_rows":20,"n_cols":21,"rows_kept":20,"cut":false,"hidden":false,"merged":[[0,0,0,20],[1,0,1,20],[2,0,2,20],[4,17,4,20],[4,1,4,4],[4,5,4,8],[4,9,4,12],[4,13,4,16],[5,13,5,14],[5,15,5,16],[5,17,5,18],[5,19,5,20],[19,0,19,20],[4,0,6,0],[5,1,5,2],[5,3,5,4],[5,5,5,6],[5,7,5,8],[5,9,5,10],[5,11,5,12]]}
["Indicadores da Produção Industrial - Brasil"]
["Índice Mensal"]
["(Igual mês do ano anterior=100)"]
[]
[null,"Indústria Geral",null,null,null,"Bens de Capital",null,null,null,"Bens Intermediários",null,null,null,"Bens de Consumo Durável",null,null,null,"Bens de Consumo Semi e Não Durável"]
[null,{"$f":"'mês-mês anterior'!B6:C6","v":"Dados de 2019"},null,{"$f":"'mês-mês anterior'!D6:E6","v":"Dados de 2020"},null,{"$f":"B6","v":"Dados de 2019"},null,{"$f":"D6","v":"Dados de 2020"},null,{"$f":"B6","v":"Dados de 2019"},null,{"$f":"D6","v":"Dados de 2020"},null,{"$f":"B6","v":"Dados de 2019"},null,{"$f":"D6","v":"Dados de 2020"},null,{"$f":"B6","v":"Dados de 2019"},null,{"$f":"D6","v":"Dados de 2020"}]
[null,{"$f":"'mês-mês anterior'!B7","v":"Outubro/2020"},{"$f":"'mês-mês anterior'!C7","v":"Novembro/2020"},{"$f":"'mês-mês anterior'!B7","v":"Outubro/2020"},{"$f":"'mês-mês anterior'!C7","v":"Novembro/2020"},{"$f":"'mês-mês anterior'!B7","v":"Outubro/2020"},{"$f":"'mês-mês anterior'!C7","v":"Novembro/2020"},{"$f":"'mês-mês anterior'!B7","v":"Outubro/2020"},{"$f":"'mês-mês anterior'!C7","v":"Novembro/2020"},{"$f":"'mês-mês anterior'!B7","v":"Outubro/2020"},{"$f":"'mês-mês anterior'!C7","v":"Novembro/2020"},{"$f":"'mês-mês anterior'!B7","v":"Outubro/2020"},{"$f":"'mês-mês anterior'!C7","v":"Novembro/2020"},{"$f":"'mês-mês anterior'!B7","v":"Outubro/2020"},{"$f":"'mês-mês anterior'!C7","v":"Novembro/2020"},{"$f":"'mês-mês anterior'!B7","v":"Outubro/2020"},{"$f":"'mês-mês anterior'!C7","v":"Novembro/2020"},{"$f":"'mês-mês anterior'!B7","v":"Outubro/2020"},{"$f":"'mês-mês anterior'!C7","v":"Novembro/2020"},{"$f":"'mês-mês anterior'!B7","v":"Outubro/2020"},{"$f":"'mês-mês anterior'!C7","v":"Novembro/2020"}]
["Jan",{"$f":"[1]mensal!B8","v":-1.9000000000000057},{"$f":"[1]mensal!C8","v":-1.9000000000000057},{"$f":"[1]mensal!D8","v":-0.90000000000000568},{"$f":"[1]mensal!E8","v":-0.90000000000000568},{"$f":"[1]mensal!F8","v":-7.4000000000000057},{"$f":"[1]mensal!G8","v":-7.4000000000000057},{"$f":"[1]mensal!H8","v":3.9000000000000057},{"$f":"[1]mensal!I8","v":3.9000000000000057},{"$f":"[1]mensal!J8","v":-0.79999999999999716},{"$f":"[1]mensal!K8","v":-0.79999999999999716},{"$f":"[1]mensal!L8","v":-1.5},{"$f":"[1]mensal!M8","v":-1.5},{"$f":"[1]mensal!N8","v":-4.4000000000000057},{"$f":"[1]mensal!O8","v":-4.4000000000000057},{"$f":"[1]mensal!P8","v":2.4000000000000057},{"$f":"[1]mensal!Q8","v":2.4000000000000057},{"$f":"[1]mensal!R8","v":-1.7999999999999972},{"$f":"[1]mensal!S8","v":-1.7999999999999972},{"$f":"[1]mensal!T8","v":-0.90000000000000568},{"$f":"[1]mensal!U8","v":-0.90000000000000568}]
["Fev",{"$f":"[1]mensal!B9","v":2.2999999999999972},{"$f":"[1]mensal!C9","v":2.2999999999999972},{"$f":"[1]mensal!D9","v":-0.29999999999999716},{"$f":"[1]mensal!E9","v":-0.29999999999999716},{"$f":"[1]mensal!F9","v":6.7999999999999972},{"$f":"[1]mensal!G9","v":6.7999999999999972},{"$f":"[1]mensal!H9","v":-5.0999999999999943},{"$f":"[1]mensal!I9","v":-5.0999999999999943},{"$f":"[1]mensal!J9","v":-9.9999999999994316E-2},{"$f":"[1]mensal!K9","v":-9.9999999999994316E-2},{"$f":"[1]mensal!L9","v":2.7999999999999972},{"$f":"[1]mensal!M9","v":2.7999999999999972},{"$f":"[1]mensal!N9","v":12.799999999999997},{"$f":"[1]mensal!O9","v":12.799999999999997},{"$f":"[1]mensal!P9","v":-10.599999999999994},{"$f":"[1]mensal!Q9","v":-10.599999999999994},{"$f":"[1]mensal!R9","v":3.5},{"$f":"[1]mensal!S9","v":3.5},{"$f":"[1]mensal!T9","v":-1.7999999999999972},{"$f":"[1]mensal!U9","v":-1.7999999999999972}]
["Mar",{"$f":"[1]mensal!B10","v":-6.0999999999999943},{"$f":"[1]mensal!C10","v":-6.0999999999999943},{"$f":"[1]mensal!D10","v":-3.7999999999999972},{"$f":"[1]mensal!E10","v":-3.7999999999999972},{"$f":"[1]mensal!F10","v":-11.599999999999994},{"$f":"[1]mensal!G10","v":-11.599999999999994},{"$f":"[1]mensal!H10","v":-5.2999999999999972},{"$f":"[1]mensal!I10","v":-5.2999999999999972},{"$f":"[1]mensal!J10","v":-4.2000000000000028},{"$f":"[1]mensal!K10","v":-4.2000000000000028},{"$f":"[1]mensal!L10","v":-1.5},{"$f":"[1]mensal!M10","v":-1.5},{"$f":"[1]mensal!N10","v":-15.400000000000006},{"$f":"[1]mensal!O10","v":-15.400000000000006},{"$f":"[1]mensal!P10","v":-9.9000000000000057},{"$f":"[1]mensal!Q10","v":-9.9000000000000057},{"$f":"[1]mensal!R10","v":-5},{"$f":"[1]mensal!S10","v":-5},{"$f":"[1]mensal!T10","v":-7.2000000000000028},{"$f":"[1]mensal!U10","v":-7.2000000000000028}]
["Abr",{"$f":"[1]mensal!B11","v":-3.5999999999999943},{"$f":"[1]mensal!C11","v":-3.5999999999999943},{"$f":"[1]mensal!D11","v":-27.599999999999994},{"$f":"[1]mensal!E11","v":-27.599999999999994},{"$f":"[1]mensal!F11","v":0},{"$f":"[1]mensal!G11","v":0},{"$f":"[1]mensal!H11","v":-52.9},{"$f":"[1]mensal!I11","v":-52.9},{"$f":"[1]mensal!J11","v":-5.7000000000000028},{"$f":"[1]mensal!K11","v":-5.7000000000000028},{"$f":"[1]mensal!L11","v":-17.599999999999994},{"$f":"[1]mensal!M11","v":-17.599999999999994},{"$f":"[1]mensal!N11","v":1},{"$f":"[1]mensal!O11","v":1},{"$f":"[1]mensal!P11","v":-85},{"$f":"[1]mensal!Q11","v":-85},{"$f":"[1]mensal!R11","v":-0.79999999999999716},{"$f":"[1]mensal!S11","v":-0.79999999999999716},{"$f":"[1]mensal!T11","v":-25.5},{"$f":"[1]mensal!U11","v":-25.5}]
["Mai",{"$f":"[1]mensal!B12","v":7.7999999999999972},{"$f":"[1]mensal!C12","v":7.7999999999999972},{"$f":"[1]mensal!D12","v":-21.799999999999997},{"$f":"[1]mensal!E12","v":-21.799999999999997},{"$f":"[1]mensal!F12","v":20.900000000000006},{"$f":"[1]mensal!G12","v":20.900000000000006},{"$f":"[1]mensal!H12","v":-39.5},{"$f":"[1]mensal!I12","v":-39.5},{"$f":"[1]mensal!J12","v":3.2000000000000028},{"$f":"[1]mensal!K12","v":3.2000000000000028},{"$f":"[1]mensal!L12","v":-14.599999999999994},{"$f":"[1]mensal!M12","v":-14.599999999999994},{"$f":"[1]mensal!N12","v":28.199999999999989},{"$f":"[1]mensal!O12","v":28.199999999999989},{"$f":"[1]mensal!P12","v":-69.7},{"$f":"[1]mensal!Q12","v":-69.7},{"$f":"[1]mensal!R12","v":12.200000000000003},{"$f":"[1]mensal!S12","v":12.200000000000003},{"$f":"[1]mensal!T12","v":-19.299999999999997},{"$f":"[1]mensal!U12","v":-19.299999999999997}]
["Jun",{"$f":"[1]mensal!B13","v":-5.7999999999999972},{"$f":"[1]mensal!C13","v":-5.7999999999999972},{"$f":"[1]mensal!D13","v":-8.7999999999999972},{"$f":"[1]mensal!E13","v":-8.7999999999999972},{"$f":"[1]mensal!F13","v":-5},{"$f":"[1]mensal!G13","v":-5},{"$f":"[1]mensal!H13","v":-23},{"$f":"[1]mensal!I13","v":-23},{"$f":"[1]mensal!J13","v":-6.0999999999999943},{"$f":"[1]mensal!K13","v":-6.0999999999999943},{"$f":"[1]mensal!L13","v":-5.5999999999999943},{"$f":"[1]mensal!M13","v":-5.5999999999999943},{"$f":"[1]mensal!N13","v":-5.7999999999999972},{"$f":"[1]mensal!O13","v":-5.7999999999999972},{"$f":"[1]mensal!P13","v":-34.799999999999997},{"$f":"[1]mensal!Q13","v":-34.799999999999997},{"$f":"[1]mensal!R13","v":-4.7999999999999972},{"$f":"[1]mensal!S13","v":-4.7999999999999972},{"$f":"[1]mensal!T13","v":-5},{"$f":"[1]mensal!U13","v":-5}]
["Jul",{"$f":"[1]mensal!B14","v":-2.5},{"$f":"[1]mensal!C14","v":-2.5},{"$f":"[1]mensal!D14","v":-2.7000000000000028},{"$f":"[1]mensal!E14","v":-2.7000000000000028},{"$f":"[1]mensal!F14","v":6},{"$f":"[1]mensal!G14","v":6},{"$f":"[1]mensal!H14","v":-15.900000000000006},{"$f":"[1]mensal!I14","v":-15.900000000000006},{"$f":"[1]mensal!J14","v":-5.2000000000000028},{"$f":"[1]mensal!K14","v":-5.2000000000000028},{"$f":"[1]mensal!L14","v":1.9000000000000057},{"$f":"[1]mensal!M14","v":1.9000000000000057},{"$f":"[1]mensal!N14","v":1.5},{"$f":"[1]mensal!O14","v":1.5},{"$f":"[1]mensal!P14","v":-16.5},{"$f":"[1]mensal!Q14","v":-16.5},{"$f":"[1]mensal!R14","v":1.5},{"$f":"[1]mensal!S14","v":1.5},{"$f":"[1]mensal!T14","v":-4.7000000000000028},{"$f":"[1]mensal!U14","v":-4.7000000000000028}]
["Ago",{"$f":"[1]mensal!B15","v":-2.0999999999999943},{"$f":"[1]mensal!C15","v":-2.0999999999999943},{"$f":"[1]mensal!D15","v":-2.5},{"$f":"[1]mensal!E15","v":-2.5},{"$f":"[1]mensal!F15","v":-4.2999999999999972},{"$f":"[1]mensal!G15","v":-4.2999999999999972},{"$f":"[1]mensal!H15","v":-14.700000000000003},{"$f":"[1]mensal!I15","v":-14.700000000000003},{"$f":"[1]mensal!J15","v":-1.9000000000000057},{"$f":"[1]mensal!K15","v":-1.9000000000000057},{"$f":"[1]mensal!L15","v":1.9000000000000057},{"$f":"[1]mensal!M15","v":1.9000000000000057},{"$f":"[1]mensal!N15","v":-5.0999999999999943},{"$f":"[1]mensal!O15","v":-5.0999999999999943},{"$f":"[1]mensal!P15","v":-10},{"$f":"[1]mensal!Q15","v":-10},{"$f":"[1]mensal!R15","v":-0.20000000000000284},{"$f":"[1]mensal!S15","v":-0.20000000000000284},{"$f":"[1]mensal!T15","v":-6.2999999999999972},{"$f":"[1]mensal!U15","v":-6.2999999999999972}]
["Set",{"$f":"[1]mensal!B16","v":1.0999999999999943},{"$f":"[1]mensal!C16","v":1.0999999999999943},{"$f":"[1]mensal!D16","v":3.7000000000000028},{"$f":"[1]mensal!E16","v":3.7000000000000028},{"$f":"[1]mensal!F16","v":1.2000000000000028},{"$f":"[1]mensal!G16","v":1.2000000000000028},{"$f":"[1]mensal!H16","v":-0.20000000000000284},{"$f":"[1]mensal!I16","v":-0.20000000000000284},{"$f":"[1]mensal!J16","v":9.9999999999994316E-2},{"$f":"[1]mensal!K16","v":9.9999999999994316E-2},{"$f":"[1]mensal!L16","v":5.7000000000000028},{"$f":"[1]mensal!M16","v":5.7000000000000028},{"$f":"[1]mensal!N16","v":8.7999999999999972},{"$f":"[1]mensal!O16","v":8.7999999999999972},{"$f":"[1]mensal!P16","v":2.0999999999999943},{"$f":"[1]mensal!Q16","v":2.2000000000000028},{"$f":"[1]mensal!R16","v":2.0999999999999943},{"$f":"[1]mensal!S16","v":2.0999999999999943},{"$f":"[1]mensal!T16","v":1.9000000000000057},{"$f":"[1]mensal!U16","v":2}]
["Out",{"$f":"[1]mensal!B17","v":1.2999999999999972},{"$f":"[1]mensal!C17","v":1.2999999999999972},{"$f":"[1]mensal!D17","v":0.29999999999999716},{"$f":"[1]mensal!E17","v":0.29999999999999716},{"$f":"[1]mensal!F17","v":-2.2999999999999972},{"$f":"[1]mensal!G17","v":-2.2999999999999972},{"$f":"[1]mensal!H17","v":2.0999999999999943},{"$f":"[1]mensal!I17","v":2.0999999999999943},{"$f":"[1]mensal!J17","v":0.20000000000000284},{"$f":"[1]mensal!K17","v":0.20000000000000284},{"$f":"[1]mensal!L17","v":3.2000000000000028},{"$f":"[1]mensal!M17","v":3.0999999999999943},{"$f":"[1]mensal!N17","v":7.2000000000000028},{"$f":"[1]mensal!O17","v":7.2000000000000028},{"$f":"[1]mensal!P17","v":-8.2999999999999972},{"$f":"[1]mensal!Q17","v":-7.9000000000000057},{"$f":"[1]mensal!R17","v":3.7999999999999972},{"$f":"[1]mensal!S17","v":3.7999999999999972},{"$f":"[1]mensal!T17","v":-3.4000000000000057},{"$f":"[1]mensal!U17","v":-3.2999999999999972}]
["Nov",{"$f":"[1]mensal!B18","v":-1.7000000000000028},{"$f":"[1]mensal!C18","v":-1.7000000000000028},null,{"$f":"[1]mensal!E18","v":2.7999999999999972},{"$f":"[1]mensal!F18","v":-3.2999999999999972},{"$f":"[1]mensal!G18","v":-3.2999999999999972},null,{"$f":"[1]mensal!I18","v":12.799999999999997},{"$f":"[1]mensal!J18","v":-2.7999999999999972},{"$f":"[1]mensal!K18","v":-2.7999999999999972},null,{"$f":"[1]mensal!M18","v":3.5999999999999943},{"$f":"[1]mensal!N18","v":1.2999999999999972},{"$f":"[1]mensal!O18","v":1.2999999999999972},null,{"$f":"[1]mensal!Q18","v":2.7000000000000028},{"$f":"[1]mensal!R18","v":1.0999999999999943},{"$f":"[1]mensal!S18","v":1.0999999999999943},null,{"$f":"[1]mensal!U18","v":-0.90000000000000568}]
["Dez",{"$f":"[1]mensal!B19","v":-1.2999999999999972},{"$f":"[1]mensal!C19","v":-1.2999999999999972},null,null,{"$f":"[1]mensal!F19","v":-6.5},{"$f":"[1]mensal!G19","v":-6.5},null,null,{"$f":"[1]mensal!J19","v":-2.0999999999999943},{"$f":"[1]mensal!K19","v":-2.0999999999999943},null,null,{"$f":"[1]mensal!N19","v":1.5999999999999943},{"$f":"[1]mensal!O19","v":1.5999999999999943},null,null,{"$f":"[1]mensal!R19","v":1.0999999999999943},{"$f":"[1]mensal!S19","v":1.0999999999999943}]
["Fonte: IBGE, Diretoria de Pesquisas, Coordenação de Indústria"]