{"text_format":"1","workbook":"xlsx","n_sheets":2,"sheets":["mês-mês anterior","mensal"],"not_rendered":{"charts":0,"images":0,"macros":1,"external_links":0,"defined_names":0,"comments":0,"pivot_tables":0},"unopened":[],"bounds":{"document_bytes":16777216,"sheet_cells":100000,"rows_first":2000,"rows_last":500,"rows_between":2000,"halvings":0,"cell_chars":16384,"cell_head_chars":4096},"cells_cut":0,"cells_raw":0,"read":"whole","date_system":"1900"}

{"sheet":"mês-mês anterior","index":0,"n_rows":20,"n_cols":21,"rows_kept":20,"cut":false,"hidden":false,"merged":[[5,11,5,12],[5,13,5,14],[5,15,5,16],[5,17,5,18],[5,19,5,20],[19,0,19,20],[0,0,0,20],[1,0,1,20],[2,0,2,20],[4,0,6,0],[4,17,4,20],[4,1,4,4],[4,5,4,8],[4,9,4,12],[4,13,4,16],[5,1,5,2],[5,3,5,4],[5,5,5,6],[5,7,5,8],[5,9,5,10]]}
["Indicadores da Produção Industrial - Brasil"]
["Série com ajuste sazonal"]
["Índice Mês/Mês Anterior"]
[]
[null,"Indústria Geral",null,null,null,"Bens de Capital",null,null,null,"Bens Intermediários",null,null,null,"Bens de Consumo Durável",null,null,null,"Bens de Consumo Semi e Não Durável"]
[null,"Dados de 2017",null,"Dados de 2018",null,{"$f":"B6","v":"Dados de 2017"},null,{"$f":"D6","v":"Dados de 2018"},null,{"$f":"B6","v":"Dados de 2017"},null,{"$f":"D6","v":"Dados de 2018"},null,{"$f":"B6","v":"Dados de 2017"},null,{"$f":"D6","v":"Dados de 2018"},null,{"$f":"B6","v":"Dados de 2017"},null,{"$f":"D6","v":"Dados de 2018"}]
[null,"Junho/ 2018","Julho/ 2018",{"$f":"B7","v":"Junho/ 2018"},"Julho/ 2018",{"$f":"B7","v":"Junho/ 2018"},"Julho/ 2018",{"$f":"B7","v":"Junho/ 2018"},"Julho/ 2018",{"$f":"B7","v":"Junho/ 2018"},"Julho/ 2018",{"$f":"B7","v":"Junho/ 2018"},"Julho/ 2018",{"$f":"B7","v":"Junho/ 2018"},"Julho/ 2018",{"$f":"B7","v":"Junho/ 2018"},"Julho/ 2018",{"$f":"B7","v":"Junho/ 2018"},"Julho/ 2018",{"$f":"B7","v":"Junho/ 2018"},"Julho/ 2018"]
["Jan",1.1000000000000001,1.1000000000000001,-2.1,-2.1,-1,-0.6,0,0.3,1.2,1.3,-2,-2.1,-1.4,-1.6,-5.3,-5.2,2.6,2.7,0.6,0.7]
["Fev",1.6,1.6,0.2,0.2,6.7,6.6,-0.7,-0.8,0.7,0.6,-0.9,-0.9,7.1,6.9,3.9,3.7,-0.1,-0.3,-0.8,-1.2]
["Mar",-2.5,-2.5,0,-0.1,-2.2999999999999998,-3,4.5,3.8,-1.5,-1.4,-1,-1,-5,-4.9000000000000004,0.8,0.9,-1.7,-1.6,0.5,0.5]
["Abr",0.6,0.6,0.9,0.9,1,0.7,1.9,1.9,0.9,0.9,1.6,1.7,-2.4,-2.2999999999999998,2,1.9,-1,-1.5,1.1000000000000001,0.8]
["Mai",0.5,0.5,-11,-10.9,2.4,2.2000000000000002,-18.8,-19.399999999999999,0.7,0.7,-6.3,-6.3,8.1999999999999993,8.1,-26.1,-25.4,1.1000000000000001,1.5,-13,-12.5]
["Jun",0.8,0.8,13.1,12.9,3.4,4.4000000000000004,25.6,26.6,0.3,0.5,7.4,7.6,-0.9,-0.7,34.4,32.1,0.3,0.4,15.7,15.6]
["Jul",0.7,0.6,null,-0.2,0.7,1.5,null,-6.2,0.8,0.2,null,1,1.6,1.8,null,-0.4,2.6,2.6,null,-0.5]
["Ago",-0.5,-0.3,null,null,0.5,0.8,null,null,-1,-0.8,null,null,3.6,3.5,null,null,-1.2,-1.2]
["Set",0.5,0.5,null,null,0.1,-0.3,null,null,0.8,0.9,null,null,2.2999999999999998,2.2999999999999998,null,null,-1.6,-1.6]
["Out",-0.1,-0.1,null,null,0.7,0.8,null,null,0,-0.1,null,null,-0.6,-0.8,null,null,1.5,1.5]
["Nov",0.8,0.9,null,null,0.8,-0.1,null,null,1,1.1000000000000001,null,null,2.4,2.2999999999999998,null,null,-2.5,-2.7]
["Dez",3.1,2.9,null,null,0.9,1.1000000000000001,null,null,2,2.1,null,null,7.6,7.5,null,null,3.2,3.3]
["Fonte: IBGE, Diretoria de Pesquisas, Coordenação de Indústria"]

{"sheet":"mensal","index":1,"n_rows":20,"n_cols":21,"rows_kept":20,"cut":false,"hidden":false,"merged":[[5,13,5,14],[5,15,5,16],[5,17,5,18],[5,19,5,20],[19,0,19,20],[4,0,6,0],[5,1,5,2],[5,3,5,4],[5,5,5,6],[5,7,5,8],[5,9,5,10],[5,11,5,12],[0,0,0,20],[1,0,1,20],[2,0,2,20],[4,17,4,20],[4,1,4,4],[4,5,4,8],[4,9,4,12],[4,13,4,16]]}
["Indicadores da Produção Industrial - Brasil"]
["Índice Mensal"]
["(Igual mês do ano anterior=100)"]
[]
[null,"Indústria Geral",null,null,null,"Bens de Capital",null,null,null,"Bens Intermediários",null,null,null,"Bens de Consumo Durável",null,null,null,"Bens de Consumo Semi e Não Durável"]
[null,{"$f":"'mês-mês anterior'!B6:C6","v":"Dados de 2017"},null,{"$f":"'mês-mês anterior'!D6:E6","v":"Dados de 2018"},null,{"$f":"B6","v":"Dados de 2017"},null,{"$f":"D6","v":"Dados de 2018"},null,{"$f":"B6","v":"Dados de 2017"},null,{"$f":"D6","v":"Dados de 2018"},null,{"$f":"B6","v":"Dados de 2017"},null,{"$f":"D6","v":"Dados de 2018"},null,{"$f":"B6","v":"Dados de 2017"},null,{"$f":"D6","v":"Dados de 2018"}]
[null,{"$f":"'mês-mês anterior'!B7","v":"Junho/ 2018"},{"$f":"'mês-mês anterior'!C7","v":"Julho/ 2018"},{"$f":"'mês-mês anterior'!B7","v":"Junho/ 2018"},{"$f":"'mês-mês anterior'!C7","v":"Julho/ 2018"},{"$f":"'mês-mês anterior'!B7","v":"Junho/ 2018"},{"$f":"'mês-mês anterior'!C7","v":"Julho/ 2018"},{"$f":"'mês-mês anterior'!B7","v":"Junho/ 2018"},{"$f":"'mês-mês anterior'!C7","v":"Julho/ 2018"},{"$f":"'mês-mês anterior'!B7","v":"Junho/ 2018"},{"$f":"'mês-mês anterior'!C7","v":"Julho/ 2018"},{"$f":"'mês-mês anterior'!B7","v":"Junho/ 2018"},{"$f":"'mês-mês anterior'!C7","v":"Julho/ 2018"},{"$f":"'mês-mês anterior'!B7","v":"Junho/ 2018"},{"$f":"'mês-mês anterior'!C7","v":"Julho/ 2018"},{"$f":"'mês-mês anterior'!B7","v":"Junho/ 2018"},{"$f":"'mês-mês anterior'!C7","v":"Julho/ 2018"},{"$f":"'mês-mês anterior'!B7","v":"Junho/ 2018"},{"$f":"'mês-mês anterior'!C7","v":"Julho/ 2018"},{"$f":"'mês-mês anterior'!B7","v":"Junho/ 2018"},{"$f":"'mês-mês anterior'!C7","v":"Julho/ 2018"}]
["Jan",2,2,5.7999999999999972,5.7999999999999972,6.4000000000000057,6.4000000000000057,18.200000000000003,18.400000000000006,1.0999999999999943,1.2000000000000028,4.2000000000000028,4.2000000000000028,4.5999999999999943,4.5999999999999943,20.400000000000006,20.400000000000006,2.2999999999999972,2.2999999999999972,3.0999999999999943,3]
["Fev",-0.20000000000000284,-9.9999999999994316E-2,2.2000000000000028,2,3.7999999999999972,3.9000000000000057,7.4000000000000057,7.2999999999999972,-2.0999999999999943,-2.0999999999999943,1.0999999999999943,1.0999999999999943,20.400000000000006,20.299999999999997,15.5,15.5,-1.2999999999999972,-1.2999999999999972,0.40000000000000568,9.9999999999994316E-2]
["Mar",2,2,1.2000000000000028,1.0999999999999943,5.0999999999999943,5.2999999999999972,8.9000000000000057,9,1.2000000000000028,1.2000000000000028,-0.40000000000000568,-0.59999999999999432,9.2000000000000028,9.0999999999999943,15.900000000000006,15.799999999999997,1,1,-1.5,-1.7000000000000028]
["Abr",-4.2999999999999972,-4.4000000000000057,9,9,-5.2999999999999972,-5.2000000000000028,23.700000000000003,23.900000000000006,-3,-3,4.7000000000000028,4.7000000000000028,0.59999999999999432,0.5,36.099999999999994,36,-9.4000000000000057,-9.5,9.7000000000000028,9.7999999999999972]
["Mai",4.5,4.5,-6.5999999999999943,-6.5999999999999943,8.0999999999999943,8.4000000000000057,-6.7000000000000028,-7,3.4000000000000057,3.4000000000000057,-5,-5,20.700000000000003,20.5,-11.700000000000003,-11.099999999999994,2.2000000000000028,2.2000000000000028,-9.2000000000000028,-9.2000000000000028]
["Jun",0.90000000000000568,0.90000000000000568,3.5,3.4000000000000057,0.90000000000000568,1.0999999999999943,9.5,9.2999999999999972,1.2000000000000028,1.2000000000000028,1.7999999999999972,1.9000000000000057,5.7000000000000028,5.5,16,14.599999999999994,-1.4000000000000057,-1.2000000000000028,3.2000000000000028,3]
["Jul",2.7999999999999972,2.7999999999999972,null,4,7.7999999999999972,8.2000000000000028,null,6.5,1,1,null,3.5,8.9000000000000057,8.7000000000000028,null,16.900000000000006,4.5,4.4000000000000057,null,1.7999999999999972]
["Ago",4,3.9000000000000057,null,null,9.4000000000000057,9.9000000000000057,null,null,1.7999999999999972,1.7999999999999972,null,null,18.799999999999997,18.599999999999994,null,null,3.9000000000000057,3.7999999999999972]
["Set",2.5,2.5,null,null,6.5,7,null,null,1.9000000000000057,1.9000000000000057,null,null,16.400000000000006,16.200000000000003,null,null,-0.29999999999999716,-0.5]
["Out",5.5,5.5,null,null,15,15.5,null,null,3.2999999999999972,3.4000000000000057,null,null,18.299999999999997,18,null,null,4.7999999999999972,4.7000000000000028]
["Nov",4.7000000000000028,4.7000000000000028,null,null,8.5999999999999943,8.7000000000000028,null,null,4.0999999999999943,4.0999999999999943,null,null,15.5,15.299999999999997,null,null,2.7999999999999972,2.7000000000000028]
["Dez",4.5999999999999943,4.5999999999999943,null,null,10,10.099999999999994,null,null,4.4000000000000057,4.4000000000000057,null,null,21.5,21.200000000000003,null,null,0.59999999999999432,0.59999999999999432]
["Fonte: IBGE, Diretoria de Pesquisas, Coordenação de Indústria"]